BEGIN:VCALENDAR
VERSION:2.0
PRODID:-//CDU-Kreisverband Bergedorf - ECPv6.15.11//NONSGML v1.0//EN
CALSCALE:GREGORIAN
METHOD:PUBLISH
X-WR-CALNAME:CDU-Kreisverband Bergedorf
X-ORIGINAL-URL:https://kreisverband.cdubergedorf.de
X-WR-CALDESC:Veranstaltungen für CDU-Kreisverband Bergedorf
REFRESH-INTERVAL;VALUE=DURATION:PT1H
X-Robots-Tag:noindex
X-PUBLISHED-TTL:PT1H
BEGIN:VTIMEZONE
TZID:Europe/Berlin
BEGIN:DAYLIGHT
TZOFFSETFROM:+0100
TZOFFSETTO:+0200
TZNAME:CEST
DTSTART:20240331T010000
END:DAYLIGHT
BEGIN:STANDARD
TZOFFSETFROM:+0200
TZOFFSETTO:+0100
TZNAME:CET
DTSTART:20241027T010000
END:STANDARD
BEGIN:DAYLIGHT
TZOFFSETFROM:+0100
TZOFFSETTO:+0200
TZNAME:CEST
DTSTART:20250330T010000
END:DAYLIGHT
BEGIN:STANDARD
TZOFFSETFROM:+0200
TZOFFSETTO:+0100
TZNAME:CET
DTSTART:20251026T010000
END:STANDARD
BEGIN:DAYLIGHT
TZOFFSETFROM:+0100
TZOFFSETTO:+0200
TZNAME:CEST
DTSTART:20260329T010000
END:DAYLIGHT
BEGIN:STANDARD
TZOFFSETFROM:+0200
TZOFFSETTO:+0100
TZNAME:CET
DTSTART:20261025T010000
END:STANDARD
END:VTIMEZONE
BEGIN:VEVENT
DTSTART;TZID=Europe/Berlin:20250904T103000
DTEND;TZID=Europe/Berlin:20250904T120000
DTSTAMP:20260421T145534
CREATED:20250903T142328Z
LAST-MODIFIED:20250903T142328Z
UID:10000179-1756981800-1756987200@kreisverband.cdubergedorf.de
SUMMARY:Infostand mit Dennis Thering und Dennis Gladiator
DESCRIPTION:
URL:https://kreisverband.cdubergedorf.de/termin/infostand-mit-dennis-thering-und-dennis-gladiator/
CATEGORIES:Öffentlicher Termin
ATTACH;FMTTYPE=image/jpeg:https://kreisverband.cdubergedorf.de/wp-content/uploads/2025/09/WhatsApp-Bild-2025-09-03-um-13.50.41_f0fb869b-scaled.jpg
END:VEVENT
END:VCALENDAR