BEGIN:VCALENDAR
VERSION:2.0
PRODID:-//CDU-Kreisverband Bergedorf - ECPv6.15.11//NONSGML v1.0//EN
CALSCALE:GREGORIAN
METHOD:PUBLISH
X-ORIGINAL-URL:https://kreisverband.cdubergedorf.de
X-WR-CALDESC:Veranstaltungen für CDU-Kreisverband Bergedorf
REFRESH-INTERVAL;VALUE=DURATION:PT1H
X-Robots-Tag:noindex
X-PUBLISHED-TTL:PT1H
BEGIN:VTIMEZONE
TZID:Europe/Berlin
BEGIN:DAYLIGHT
TZOFFSETFROM:+0100
TZOFFSETTO:+0200
TZNAME:CEST
DTSTART:20240331T010000
END:DAYLIGHT
BEGIN:STANDARD
TZOFFSETFROM:+0200
TZOFFSETTO:+0100
TZNAME:CET
DTSTART:20241027T010000
END:STANDARD
BEGIN:DAYLIGHT
TZOFFSETFROM:+0100
TZOFFSETTO:+0200
TZNAME:CEST
DTSTART:20250330T010000
END:DAYLIGHT
BEGIN:STANDARD
TZOFFSETFROM:+0200
TZOFFSETTO:+0100
TZNAME:CET
DTSTART:20251026T010000
END:STANDARD
BEGIN:DAYLIGHT
TZOFFSETFROM:+0100
TZOFFSETTO:+0200
TZNAME:CEST
DTSTART:20260329T010000
END:DAYLIGHT
BEGIN:STANDARD
TZOFFSETFROM:+0200
TZOFFSETTO:+0100
TZNAME:CET
DTSTART:20261025T010000
END:STANDARD
END:VTIMEZONE
BEGIN:VEVENT
DTSTART;TZID=Europe/Berlin:20250917T150000
DTEND;TZID=Europe/Berlin:20250917T163000
DTSTAMP:20260421T144616
CREATED:20250828T122925Z
LAST-MODIFIED:20250828T122925Z
UID:10000175-1758121200-1758126600@kreisverband.cdubergedorf.de
SUMMARY:Senioren Union - Kreismitgliederversammlung
DESCRIPTION:Neuwahl des Kreisvorstandes und Wahl der Delegierten des Kreisverbandes Bergedorf sowie zur Landesdelegiertenversammlung der Senioren Union der Hamburger CDU
URL:https://kreisverband.cdubergedorf.de/termin/senioren-union-kreismitgliederversammlung/
LOCATION:CDU Kreisgeschäftsstelle Bergedorf\, Bergedorfer Str. 142\, Hamburg\, 21029
CATEGORIES:Kreismitgliederversammlung,Öffentlicher Termin
END:VEVENT
END:VCALENDAR