BEGIN:VCALENDAR
VERSION:2.0
PRODID:-//CDU-Kreisverband Bergedorf - ECPv6.15.11//NONSGML v1.0//EN
CALSCALE:GREGORIAN
METHOD:PUBLISH
X-ORIGINAL-URL:https://kreisverband.cdubergedorf.de
X-WR-CALDESC:Veranstaltungen für CDU-Kreisverband Bergedorf
REFRESH-INTERVAL;VALUE=DURATION:PT1H
X-Robots-Tag:noindex
X-PUBLISHED-TTL:PT1H
BEGIN:VTIMEZONE
TZID:Europe/Berlin
BEGIN:DAYLIGHT
TZOFFSETFROM:+0100
TZOFFSETTO:+0200
TZNAME:CEST
DTSTART:20240331T010000
END:DAYLIGHT
BEGIN:STANDARD
TZOFFSETFROM:+0200
TZOFFSETTO:+0100
TZNAME:CET
DTSTART:20241027T010000
END:STANDARD
BEGIN:DAYLIGHT
TZOFFSETFROM:+0100
TZOFFSETTO:+0200
TZNAME:CEST
DTSTART:20250330T010000
END:DAYLIGHT
BEGIN:STANDARD
TZOFFSETFROM:+0200
TZOFFSETTO:+0100
TZNAME:CET
DTSTART:20251026T010000
END:STANDARD
BEGIN:DAYLIGHT
TZOFFSETFROM:+0100
TZOFFSETTO:+0200
TZNAME:CEST
DTSTART:20260329T010000
END:DAYLIGHT
BEGIN:STANDARD
TZOFFSETFROM:+0200
TZOFFSETTO:+0100
TZNAME:CET
DTSTART:20261025T010000
END:STANDARD
END:VTIMEZONE
BEGIN:VEVENT
DTSTART;TZID=Europe/Berlin:20250301T093000
DTEND;TZID=Europe/Berlin:20250301T113000
DTSTAMP:20260421T220231
CREATED:20250203T154509Z
LAST-MODIFIED:20250203T154509Z
UID:10000166-1740821400-1740828600@kreisverband.cdubergedorf.de
SUMMARY:OV Neuallermöhe/Nettelnburg - Infostand
DESCRIPTION:
URL:https://kreisverband.cdubergedorf.de/termin/ov-neuallermoehe-nettelnburg-infostand-3/
LOCATION:Fleetplatz
CATEGORIES:Öffentlicher Termin
END:VEVENT
BEGIN:VEVENT
DTSTART;TZID=Europe/Berlin:20250301T100000
DTEND;TZID=Europe/Berlin:20250301T120000
DTSTAMP:20260421T220231
CREATED:20250120T092535Z
LAST-MODIFIED:20250120T092535Z
UID:10000143-1740823200-1740830400@kreisverband.cdubergedorf.de
SUMMARY:OV Vier- und Marschlande - Infostand
DESCRIPTION:
URL:https://kreisverband.cdubergedorf.de/termin/ov-vier-und-marschlande-infostand-15/
LOCATION:EDEKA Clausen\, Neuengammer Hausdeich 215
CATEGORIES:Öffentlicher Termin
END:VEVENT
BEGIN:VEVENT
DTSTART;TZID=Europe/Berlin:20250301T100000
DTEND;TZID=Europe/Berlin:20250301T120000
DTSTAMP:20260421T220231
CREATED:20250131T092429Z
LAST-MODIFIED:20250131T092429Z
UID:10000148-1740823200-1740830400@kreisverband.cdubergedorf.de
SUMMARY:OV Lohbrügge - Infostand
DESCRIPTION:
URL:https://kreisverband.cdubergedorf.de/termin/ov-lohbruegge-infostand-17/
LOCATION:Lohbrügger Markt / Skulptur Marktschreier
CATEGORIES:Öffentlicher Termin
END:VEVENT
BEGIN:VEVENT
DTSTART;TZID=Europe/Berlin:20250301T100000
DTEND;TZID=Europe/Berlin:20250301T120000
DTSTAMP:20260421T220231
CREATED:20250203T154559Z
LAST-MODIFIED:20250203T154559Z
UID:10000167-1740823200-1740830400@kreisverband.cdubergedorf.de
SUMMARY:OV Bergedorf - Infostand
DESCRIPTION:
URL:https://kreisverband.cdubergedorf.de/termin/ov-bergedorf-infostand-8/
LOCATION:Vor Kaffee Timm\, Bergedorfer Markt/Sachsentor
CATEGORIES:Öffentlicher Termin
END:VEVENT
BEGIN:VEVENT
DTSTART;TZID=Europe/Berlin:20250319T150000
DTEND;TZID=Europe/Berlin:20250319T163000
DTSTAMP:20260421T220231
CREATED:20250117T090521Z
LAST-MODIFIED:20250117T090521Z
UID:10000137-1742396400-1742401800@kreisverband.cdubergedorf.de
SUMMARY:Senioren-Union - Monatstreffen
DESCRIPTION:Wir erwarten Julian Emrich\, Fraktionsvorsitzender der CDU-Bezirksfraktion\, zum Gespräch. Julian wird uns über die Arbeit der Fraktion in Bergedorf berichten und eine Einschätzung der Ergebnisse der beiden stattgefundenen Wahlen geben.
URL:https://kreisverband.cdubergedorf.de/termin/senioren-union-monatstreffen-6/
LOCATION:CDU Kreisgeschäftsstelle Bergedorf\, Bergedorfer Str. 142\, Hamburg\, 21029
CATEGORIES:CDU Mitglieder,Gäste,Öffentlicher Termin
END:VEVENT
END:VCALENDAR