BEGIN:VCALENDAR
VERSION:2.0
PRODID:-//CDU-Kreisverband Bergedorf - ECPv6.15.11//NONSGML v1.0//EN
CALSCALE:GREGORIAN
METHOD:PUBLISH
X-ORIGINAL-URL:https://kreisverband.cdubergedorf.de
X-WR-CALDESC:Veranstaltungen für CDU-Kreisverband Bergedorf
REFRESH-INTERVAL;VALUE=DURATION:PT1H
X-Robots-Tag:noindex
X-PUBLISHED-TTL:PT1H
BEGIN:VTIMEZONE
TZID:Europe/Berlin
BEGIN:DAYLIGHT
TZOFFSETFROM:+0100
TZOFFSETTO:+0200
TZNAME:CEST
DTSTART:20240331T010000
END:DAYLIGHT
BEGIN:STANDARD
TZOFFSETFROM:+0200
TZOFFSETTO:+0100
TZNAME:CET
DTSTART:20241027T010000
END:STANDARD
BEGIN:DAYLIGHT
TZOFFSETFROM:+0100
TZOFFSETTO:+0200
TZNAME:CEST
DTSTART:20250330T010000
END:DAYLIGHT
BEGIN:STANDARD
TZOFFSETFROM:+0200
TZOFFSETTO:+0100
TZNAME:CET
DTSTART:20251026T010000
END:STANDARD
BEGIN:DAYLIGHT
TZOFFSETFROM:+0100
TZOFFSETTO:+0200
TZNAME:CEST
DTSTART:20260329T010000
END:DAYLIGHT
BEGIN:STANDARD
TZOFFSETFROM:+0200
TZOFFSETTO:+0100
TZNAME:CET
DTSTART:20261025T010000
END:STANDARD
END:VTIMEZONE
BEGIN:VEVENT
DTSTART;TZID=Europe/Berlin:20250621T100000
DTEND;TZID=Europe/Berlin:20250621T160000
DTSTAMP:20260421T173717
CREATED:20250401T103830Z
LAST-MODIFIED:20250401T103830Z
UID:10000172-1750500000-1750521600@kreisverband.cdubergedorf.de
SUMMARY:Senioren Union - Billefahrt
DESCRIPTION:Bille-Fahrt mit der Bergedorfer Schifffahrtslinie. Abfahrt vom Serrahn\, Bergedorfer Hafen\, Richtung Hammerbrook und wieder zurück. Kostenbeitrag € 75\,00 pro Person.
URL:https://kreisverband.cdubergedorf.de/termin/senioren-union-billefahrt/
CATEGORIES:CDU Mitglieder,Gäste
END:VEVENT
BEGIN:VEVENT
DTSTART;TZID=Europe/Berlin:20250628T100000
DTEND;TZID=Europe/Berlin:20250628T130000
DTSTAMP:20260421T173717
CREATED:20240321T123212Z
LAST-MODIFIED:20250521T082448Z
UID:10000077-1751104800-1751115600@kreisverband.cdubergedorf.de
SUMMARY:OV Lohbrügge - Infostand
DESCRIPTION:
URL:https://kreisverband.cdubergedorf.de/termin/ov-lohbruegge-infostand-2/
LOCATION:Lohbrügger Markt / Skulptur Marktschreier
CATEGORIES:Öffentlicher Termin
END:VEVENT
END:VCALENDAR