BEGIN:VCALENDAR
VERSION:2.0
PRODID:-//CDU-Kreisverband Bergedorf - ECPv6.15.11//NONSGML v1.0//EN
CALSCALE:GREGORIAN
METHOD:PUBLISH
X-WR-CALNAME:CDU-Kreisverband Bergedorf
X-ORIGINAL-URL:https://kreisverband.cdubergedorf.de
X-WR-CALDESC:Veranstaltungen für CDU-Kreisverband Bergedorf
REFRESH-INTERVAL;VALUE=DURATION:PT1H
X-Robots-Tag:noindex
X-PUBLISHED-TTL:PT1H
BEGIN:VTIMEZONE
TZID:Europe/Berlin
BEGIN:DAYLIGHT
TZOFFSETFROM:+0100
TZOFFSETTO:+0200
TZNAME:CEST
DTSTART:20240331T010000
END:DAYLIGHT
BEGIN:STANDARD
TZOFFSETFROM:+0200
TZOFFSETTO:+0100
TZNAME:CET
DTSTART:20241027T010000
END:STANDARD
BEGIN:DAYLIGHT
TZOFFSETFROM:+0100
TZOFFSETTO:+0200
TZNAME:CEST
DTSTART:20250330T010000
END:DAYLIGHT
BEGIN:STANDARD
TZOFFSETFROM:+0200
TZOFFSETTO:+0100
TZNAME:CET
DTSTART:20251026T010000
END:STANDARD
BEGIN:DAYLIGHT
TZOFFSETFROM:+0100
TZOFFSETTO:+0200
TZNAME:CEST
DTSTART:20260329T010000
END:DAYLIGHT
BEGIN:STANDARD
TZOFFSETFROM:+0200
TZOFFSETTO:+0100
TZNAME:CET
DTSTART:20261025T010000
END:STANDARD
END:VTIMEZONE
BEGIN:VEVENT
DTSTART;TZID=Europe/Berlin:20250301T093000
DTEND;TZID=Europe/Berlin:20250301T113000
DTSTAMP:20260421T122359
CREATED:20250203T154509Z
LAST-MODIFIED:20250203T154509Z
UID:10000166-1740821400-1740828600@kreisverband.cdubergedorf.de
SUMMARY:OV Neuallermöhe/Nettelnburg - Infostand
DESCRIPTION:
URL:https://kreisverband.cdubergedorf.de/termin/ov-neuallermoehe-nettelnburg-infostand-3/
LOCATION:Fleetplatz
CATEGORIES:Öffentlicher Termin
END:VEVENT
BEGIN:VEVENT
DTSTART;TZID=Europe/Berlin:20250222T093000
DTEND;TZID=Europe/Berlin:20250222T113000
DTSTAMP:20260421T122359
CREATED:20250203T154112Z
LAST-MODIFIED:20250203T154112Z
UID:10000163-1740216600-1740223800@kreisverband.cdubergedorf.de
SUMMARY:OV Neuallermöhe/Nettelnburg - Infostand
DESCRIPTION:
URL:https://kreisverband.cdubergedorf.de/termin/ov-neuallermoehe-nettelnburg-infostand-2/
LOCATION:Fleetplatz
CATEGORIES:Öffentlicher Termin
END:VEVENT
BEGIN:VEVENT
DTSTART;TZID=Europe/Berlin:20250215T093000
DTEND;TZID=Europe/Berlin:20250215T113000
DTSTAMP:20260421T122359
CREATED:20250203T153157Z
LAST-MODIFIED:20250203T153157Z
UID:10000157-1739611800-1739619000@kreisverband.cdubergedorf.de
SUMMARY:OV Neuallermöhe/Nettelnburg - Infostand
DESCRIPTION:
URL:https://kreisverband.cdubergedorf.de/termin/ov-neuallermoehe-nettelnburg-infostand/
LOCATION:Fleetplatz
CATEGORIES:Öffentlicher Termin
END:VEVENT
END:VCALENDAR