BEGIN:VCALENDAR
VERSION:2.0
PRODID:-//CDU-Kreisverband Bergedorf - ECPv6.15.11//NONSGML v1.0//EN
CALSCALE:GREGORIAN
METHOD:PUBLISH
X-ORIGINAL-URL:https://kreisverband.cdubergedorf.de
X-WR-CALDESC:Veranstaltungen für CDU-Kreisverband Bergedorf
REFRESH-INTERVAL;VALUE=DURATION:PT1H
X-Robots-Tag:noindex
X-PUBLISHED-TTL:PT1H
BEGIN:VTIMEZONE
TZID:Europe/Berlin
BEGIN:DAYLIGHT
TZOFFSETFROM:+0100
TZOFFSETTO:+0200
TZNAME:CEST
DTSTART:20240331T010000
END:DAYLIGHT
BEGIN:STANDARD
TZOFFSETFROM:+0200
TZOFFSETTO:+0100
TZNAME:CET
DTSTART:20241027T010000
END:STANDARD
BEGIN:DAYLIGHT
TZOFFSETFROM:+0100
TZOFFSETTO:+0200
TZNAME:CEST
DTSTART:20250330T010000
END:DAYLIGHT
BEGIN:STANDARD
TZOFFSETFROM:+0200
TZOFFSETTO:+0100
TZNAME:CET
DTSTART:20251026T010000
END:STANDARD
BEGIN:DAYLIGHT
TZOFFSETFROM:+0100
TZOFFSETTO:+0200
TZNAME:CEST
DTSTART:20260329T010000
END:DAYLIGHT
BEGIN:STANDARD
TZOFFSETFROM:+0200
TZOFFSETTO:+0100
TZNAME:CET
DTSTART:20261025T010000
END:STANDARD
END:VTIMEZONE
BEGIN:VEVENT
DTSTART;TZID=Europe/Berlin:20250218T090000
DTEND;TZID=Europe/Berlin:20250218T110000
DTSTAMP:20260421T135624
CREATED:20250203T153555Z
LAST-MODIFIED:20250203T153555Z
UID:10000160-1739869200-1739876400@kreisverband.cdubergedorf.de
SUMMARY:Infostand mit Clara-Sophie Groß und Dennis Gladiator
DESCRIPTION:
URL:https://kreisverband.cdubergedorf.de/termin/infostand-mit-clara-sophie-gross-und-dennis-gladiator-2/
LOCATION:Kaiser-Wilhelm-Platz\, Kaiser-Wilhelm-Platz\, Hamburg\, 21029
CATEGORIES:Öffentlicher Termin
END:VEVENT
BEGIN:VEVENT
DTSTART;TZID=Europe/Berlin:20250207T090000
DTEND;TZID=Europe/Berlin:20250207T110000
DTSTAMP:20260421T135624
CREATED:20250203T151805Z
LAST-MODIFIED:20250203T151805Z
UID:10000151-1738918800-1738926000@kreisverband.cdubergedorf.de
SUMMARY:Infostand mit Clara-Sophie Groß und Dennis Gladiator
DESCRIPTION:
URL:https://kreisverband.cdubergedorf.de/termin/infostand-mit-clara-sophie-gross-und-dennis-gladiator/
LOCATION:Kaiser-Wilhelm-Platz\, Kaiser-Wilhelm-Platz\, Hamburg\, 21029
CATEGORIES:Öffentlicher Termin
END:VEVENT
END:VCALENDAR