BEGIN:VCALENDAR
VERSION:2.0
PRODID:-//CDU-Kreisverband Bergedorf - ECPv6.15.11//NONSGML v1.0//EN
CALSCALE:GREGORIAN
METHOD:PUBLISH
X-ORIGINAL-URL:https://kreisverband.cdubergedorf.de
X-WR-CALDESC:Veranstaltungen für CDU-Kreisverband Bergedorf
REFRESH-INTERVAL;VALUE=DURATION:PT1H
X-Robots-Tag:noindex
X-PUBLISHED-TTL:PT1H
BEGIN:VTIMEZONE
TZID:Europe/Berlin
BEGIN:DAYLIGHT
TZOFFSETFROM:+0100
TZOFFSETTO:+0200
TZNAME:CEST
DTSTART:20240331T010000
END:DAYLIGHT
BEGIN:STANDARD
TZOFFSETFROM:+0200
TZOFFSETTO:+0100
TZNAME:CET
DTSTART:20241027T010000
END:STANDARD
BEGIN:DAYLIGHT
TZOFFSETFROM:+0100
TZOFFSETTO:+0200
TZNAME:CEST
DTSTART:20250330T010000
END:DAYLIGHT
BEGIN:STANDARD
TZOFFSETFROM:+0200
TZOFFSETTO:+0100
TZNAME:CET
DTSTART:20251026T010000
END:STANDARD
BEGIN:DAYLIGHT
TZOFFSETFROM:+0100
TZOFFSETTO:+0200
TZNAME:CEST
DTSTART:20260329T010000
END:DAYLIGHT
BEGIN:STANDARD
TZOFFSETFROM:+0200
TZOFFSETTO:+0100
TZNAME:CET
DTSTART:20261025T010000
END:STANDARD
END:VTIMEZONE
BEGIN:VEVENT
DTSTART;TZID=Europe/Berlin:20250213T180000
DTEND;TZID=Europe/Berlin:20250213T200000
DTSTAMP:20260419T194123
CREATED:20250203T152243Z
LAST-MODIFIED:20250203T152243Z
UID:10000153-1739469600-1739476800@kreisverband.cdubergedorf.de
SUMMARY:Podiumsdiskussion beim DGB
DESCRIPTION:u.a. mit Dennis Gladiator
URL:https://kreisverband.cdubergedorf.de/termin/podiumsdiskussion-beim-dgb/
LOCATION:Serrahn Eins\, Serrahnstraße 1\, Hamburg\, 21029
END:VEVENT
END:VCALENDAR